BEGIN:VCALENDAR
VERSION:2.0
PRODID:-//Teen TAS - ECPv6.15.20//NONSGML v1.0//EN
CALSCALE:GREGORIAN
METHOD:PUBLISH
X-WR-CALNAME:Teen TAS
X-ORIGINAL-URL:https://teentas.org
X-WR-CALDESC:Events for Teen TAS
REFRESH-INTERVAL;VALUE=DURATION:PT1H
X-Robots-Tag:noindex
X-PUBLISHED-TTL:PT1H
BEGIN:VTIMEZONE
TZID:America/Chicago
BEGIN:DAYLIGHT
TZOFFSETFROM:-0600
TZOFFSETTO:-0500
TZNAME:CDT
DTSTART:20240310T080000
END:DAYLIGHT
BEGIN:STANDARD
TZOFFSETFROM:-0500
TZOFFSETTO:-0600
TZNAME:CST
DTSTART:20241103T070000
END:STANDARD
BEGIN:DAYLIGHT
TZOFFSETFROM:-0600
TZOFFSETTO:-0500
TZNAME:CDT
DTSTART:20250309T080000
END:DAYLIGHT
BEGIN:STANDARD
TZOFFSETFROM:-0500
TZOFFSETTO:-0600
TZNAME:CST
DTSTART:20251102T070000
END:STANDARD
BEGIN:DAYLIGHT
TZOFFSETFROM:-0600
TZOFFSETTO:-0500
TZNAME:CDT
DTSTART:20260308T080000
END:DAYLIGHT
BEGIN:STANDARD
TZOFFSETFROM:-0500
TZOFFSETTO:-0600
TZNAME:CST
DTSTART:20261101T070000
END:STANDARD
BEGIN:DAYLIGHT
TZOFFSETFROM:-0600
TZOFFSETTO:-0500
TZNAME:CDT
DTSTART:20270314T080000
END:DAYLIGHT
BEGIN:STANDARD
TZOFFSETFROM:-0500
TZOFFSETTO:-0600
TZNAME:CST
DTSTART:20271107T070000
END:STANDARD
END:VTIMEZONE
BEGIN:VEVENT
DTSTART;TZID=America/Chicago:20260110T123000
DTEND;TZID=America/Chicago:20260110T160000
DTSTAMP:20260423T073053
CREATED:20251129T185246Z
LAST-MODIFIED:20251129T185246Z
UID:526-1768048200-1768060800@teentas.org
SUMMARY:Dallas Mountain Creek NASA Camp
DESCRIPTION:
URL:https://teentas.org/event/dallas-mountain-creek-nasa-camp/
LOCATION:Dallas Mountain Creek Library\, 6102 Mountain Creek Pkwy\, Dallas\, TX 75249\, Dallas\, TX\, 75249\, United States
END:VEVENT
BEGIN:VEVENT
DTSTART;TZID=America/Chicago:20251130T150000
DTEND;TZID=America/Chicago:20251130T160000
DTSTAMP:20260423T073053
CREATED:20251129T181556Z
LAST-MODIFIED:20251129T181556Z
UID:508-1764514800-1764518400@teentas.org
SUMMARY:Space Weather Boba Tea Meeting
DESCRIPTION:Join us for our next boba tea meeting\, at ViVi Bubble tea in Frisco TX! We will be discussing the topic of space weather\, and enjoying some refreshing boba tea!
URL:https://teentas.org/event/space-weather-boba-tea-meeting/
LOCATION:Vivi Bubble Tea\, 3520 Preston Rd\, #108\, Frisco\, TX\, 75034\, United States
END:VEVENT
END:VCALENDAR